BEGIN:VCALENDAR
VERSION:2.0
PRODID:-//Dokumendihaldurite Ühing - ECPv6.15.17.1//NONSGML v1.0//EN
CALSCALE:GREGORIAN
METHOD:PUBLISH
X-WR-CALNAME:Dokumendihaldurite Ühing
X-ORIGINAL-URL:https://dokumendihaldus.ee
X-WR-CALDESC:Events for Dokumendihaldurite Ühing
REFRESH-INTERVAL;VALUE=DURATION:PT1H
X-Robots-Tag:noindex
X-PUBLISHED-TTL:PT1H
BEGIN:VTIMEZONE
TZID:Europe/Helsinki
BEGIN:DAYLIGHT
TZOFFSETFROM:+0200
TZOFFSETTO:+0300
TZNAME:EEST
DTSTART:20250330T010000
END:DAYLIGHT
BEGIN:STANDARD
TZOFFSETFROM:+0300
TZOFFSETTO:+0200
TZNAME:EET
DTSTART:20251026T010000
END:STANDARD
BEGIN:DAYLIGHT
TZOFFSETFROM:+0200
TZOFFSETTO:+0300
TZNAME:EEST
DTSTART:20260329T010000
END:DAYLIGHT
BEGIN:STANDARD
TZOFFSETFROM:+0300
TZOFFSETTO:+0200
TZNAME:EET
DTSTART:20261025T010000
END:STANDARD
BEGIN:DAYLIGHT
TZOFFSETFROM:+0200
TZOFFSETTO:+0300
TZNAME:EEST
DTSTART:20270328T010000
END:DAYLIGHT
BEGIN:STANDARD
TZOFFSETFROM:+0300
TZOFFSETTO:+0200
TZNAME:EET
DTSTART:20271031T010000
END:STANDARD
END:VTIMEZONE
BEGIN:VEVENT
DTSTART;TZID=Europe/Helsinki:20260222T143000
DTEND;TZID=Europe/Helsinki:20260222T153000
DTSTAMP:20260420T054025
CREATED:20260310T092815Z
LAST-MODIFIED:20260310T133938Z
UID:1766-1771770600-1771774200@dokumendihaldus.ee
SUMMARY:Teabehalduse põhimõtete rakendamise webinar
DESCRIPTION:Teabehalduri tase 6 kutseeksam toimub 2026. aasta kevadel. \nKutseeksamiks valmistumise toetamiseks korraldame enne eksamit webinaride sarja\, mis keskendub teabehalduri kutsega seotud kompetentsidele. \nWebinarid toimuvad vestlusvormis ning nende eesmärk on selgitada\, kuidas kutsestandardis kirjeldatud teadmised ja oskused avalduvad tööelus ning kuidas neid kutseeksamil hinnatakse. \nWebinaridel esitab küsimusi eksamile tulija vaatenurgast Ele Rõigas. Vestluses osalevad oma ala kogenud spetsialistid ning kutse- ja hindamiskomisjoni esindajad\, kes jagavad praktilisi näiteid ning avavad hindamispõhimõtteid. \n22.01.2026 k 14:30 \n  \nWebinaride sarjas osalemiseks palume eelnevalt registreeruda: \nhttps://docs.google.com/forms/d/e/1FAIpQLSfKDbxjGJ_5CUiSwgXvJmVHGX3m4RZjNsKZd-DYSdGbD47b3Q/viewform
URL:https://dokumendihaldus.ee/sundmus/teabehalduse-pohimotete-rakendamine/
CATEGORIES:Koolitused
ATTACH;FMTTYPE=image/png:https://dokumendihaldus.ee/wp-content/uploads/2026/02/oppekava.png
END:VEVENT
BEGIN:VEVENT
DTSTART;TZID=Europe/Helsinki:20260219T143000
DTEND;TZID=Europe/Helsinki:20260219T153000
DTSTAMP:20260420T054025
CREATED:20260310T132117Z
LAST-MODIFIED:20260310T132117Z
UID:1772-1771511400-1771515000@dokumendihaldus.ee
SUMMARY:Dokumentide haldamise webinar
DESCRIPTION:Teabehalduri tase 6 kutseeksam toimub 2026. aasta kevadel. \nKutseeksamiks valmistumise toetamiseks korraldame enne eksamit webinaride sarja\, mis keskendub teabehalduri kutsega seotud kompetentsidele. \nWebinarid toimuvad vestlusvormis ning nende eesmärk on selgitada\, kuidas kutsestandardis kirjeldatud teadmised ja oskused avalduvad tööelus ning kuidas neid kutseeksamil hinnatakse. \nWebinaridel esitab küsimusi eksamile tulija vaatenurgast Ele Rõigas. Vestluses osalevad oma ala kogenud spetsialistid ning kutse- ja hindamiskomisjoni esindajad\, kes jagavad praktilisi näiteid ning avavad hindamispõhimõtteid.
URL:https://dokumendihaldus.ee/sundmus/dokumentide-haldamise-webinar/
CATEGORIES:Koolitused
ATTACH;FMTTYPE=image/png:https://dokumendihaldus.ee/wp-content/uploads/2026/01/info-liikumine.png
END:VEVENT
END:VCALENDAR